BEGIN:VCALENDAR
VERSION:2.0
PRODID:-//https://www.awg-luzern.ch///NONSGML kigkonsult.se iCalcreator 2.10.15//
METHOD:PUBLISH
BEGIN:VEVENT
UID:20260424T234046CEST-6802ZmZEHb@https://www.awg-luzern.ch/
DTSTAMP:20260424T214046Z
DESCRIPTION:Seit genau 100 Jahren sorgt die Suva dafür\, dass Arbeit und F
 reizeit in der Schweiz sicherer werden. Die Suva ist ein starker Pfeiler d
 er sozialen Sicherheit in der Schweiz und ein wichtiger Partner für die W
 irtschaft. Und seit 100 Jahren prägt die Suva mit ihrem prächtigen Haupt
 sitz das Bild von Luzern &ndash\; sie bietet attraktive Arbeitsplätze. In
  ihrem Jubiläumsjahr dürfen wir die Suva am Hauptsitz näher kennenlerne
 n.\nDas Programm\n17:30 Uhr: 34. Generalversammlung AWG Kanton Luzern\n18:
 30 Uhr: Begr&uuml\;ssung\nJosef Wyss\, Präsident AWG Kanton Luzern\nSuva 
 &ndash\; der unbekannte Riese\nMarkus Dürr\, Suva-Ratspräsident bis 31.1
 2.2017Felix Weber\, Vorsitzender der Geschäftsleitung Suva\n19:30 Uhr:&nb
 sp\;Suva-Perle &ndash\; Besichtigung Verwaltungsratssaal\nIn Gruppen &ndas
 h\; parallel dazu\nApéro riche\nAchtung Die Teilnehmerzahl ist aus Sicher
 heitsgründen beschränkt\, deshalb bitte nur stimmberechtigte Personen an
 melden.
DTSTART:20180620T153000Z
DTEND:20180620T200000Z
LOCATION:SUVA\, Luzern (Fluhmattstrasse 1\, Luzern)
SUMMARY:Generalversammlung - Suva: allen bekannt – aber kennen wir sie?
END:VEVENT
END:VCALENDAR
