BEGIN:VCALENDAR
VERSION:2.0
PRODID:-//https://www.awg-luzern.ch///NONSGML kigkonsult.se iCalcreator 2.10.15//
METHOD:PUBLISH
BEGIN:VEVENT
UID:20260424T223818CEST-0240wmvdwO@https://www.awg-luzern.ch/
DTSTAMP:20260424T203818Z
DESCRIPTION:'Campus Sursee' ist f&uuml\;r jeden in der Baubranche seit Jahr
 zehnten als Bildungsst&auml\;tte ein Begriff. Aber 'Campus Sursee' ist noc
 h viel mehr: das gr&ouml\;sste Bildungs- und Seminarzentrum der Schweiz. U
 nd\, es wird laufend ausgebaut. Aktuell befindet sich die gr&ouml\;sste Sc
 hwimm- und Sportarena der Schweiz im Endspurt. In dieser interessanten Bau
 phase sind wir zur Besichtigung eingeladen.\nAnschliessend geht es um die 
 Organisation und Finanzierung des Gesundheitswesens - eine Grossbaustelle 
 der Politik und Wirtschaft\, die jeden von uns betrifft.\n17:30 Uhr: Begr&
 uuml\;ssung\nInge Lichtsteiner\, Vorstand AWG Kanton Luzern\nCampus Sursee
 \nDaniel Suter\, Direktor Campus Sursee\nRundgang in Gruppen\nWichtig: bau
 stellentaugliche Schuhe\n18:45 Uhr: Die Debatte\nBegr&uuml\;ssung durch Jo
 sef Wyss\, Pr&auml\;sident AWG Kanton Luzern\nGesundheitswesen - so geht e
 s nicht mehr!\nInput-Referat: Daniel Scheidegger\, Pr&auml\;sident Schweiz
 erische Akademie der Medizinischen Wissenschaften SAMW\nGesundheits-Arena 
 mit:\n\nPhilomena Colatrella\, CEO CSS Versicherung\nRuth Humbel\, Nationa
 lr&auml\;tin (AG)\nGuido Graf\, Regierungsrat\, Gesundheits- und Sozialdir
 ektor\nDaniel Scheidegger\, Pr&auml\;sident SAMW\nModeration: Rahel Walser
 \, Radio SRF\n\n20:00 Uhr Ap&eacute\;ro riche\nAuf der Terrazza Luegisland
DTSTART:20180821T153000Z
DTEND:20180821T173000Z
LOCATION:Campus Sursee\, Oberkirch ()
SUMMARY:Fahren wir unser Gesundheitswesen an die Wand?
END:VEVENT
END:VCALENDAR
