BEGIN:VCALENDAR
VERSION:2.0
PRODID:-//https://www.awg-luzern.ch///NONSGML kigkonsult.se iCalcreator 2.10.15//
METHOD:PUBLISH
BEGIN:VEVENT
UID:20260420T170709CEST-6843nVV4Vt@https://www.awg-luzern.ch/
DTSTAMP:20260420T150709Z
DESCRIPTION:Schokolade\nUnsere Ern&auml\;hrung\, die Herkunft und Produktio
 n der Lebensmittel sorgen immer h&auml\;ufiger f&uuml\;r heftige Debatten.
  In einem interessanten Unternehmen diskutieren spannende G&auml\;ste.\nAl
 le m&ouml\;gen Schokolade\, die beste kommt aus der Schweiz! Die Herkunft&
 nbsp\;der Rohstoffe und ihre Verarbeitung interessieren deshalb ganz beson
 ders.Das Familienunternehmen Aeschbach Chocolatier steht f&uuml\;r Qualit&
 auml\;tsschokolade. In dritter Generation stellen sie in Root eine breite 
 Palette an Schokoladen- produkten her. Die ChocoWelt macht den Kreislauf v
 on Schokolade erlebbar. Die Familie Aeschbach will nachhaltig und fair sei
 n &ndash\; vom Anbau\, &uuml\;ber&nbsp\;die Produktion bis zum Verkauf.\nI
 m zweiten Teil der Veranstaltung diskutieren prominente Pers&ouml\;nlichke
 iten&nbsp\;mit unterschiedlichen Positionen &uuml\;ber das Spannungsfeld v
 on Unternehmertum &ndash\; Nachhaltigkeit &ndash\; Konsum.\n17:30 Uhr - Pr
 ogramm\nBegr&uuml\;ssungJosef Wyss\, Pr&auml\;sident AWG Luzern\nAeschbach
  ChocolatierFeinste Schweizer Schokolade aus RootMarkus Aeschbach\, Gesch&
 auml\;ftsf&uuml\;hrer\nF&uuml\;hrung durch die ProduktionIn Gruppen\nDas T
 hema\nWirtschaftlich und nachhaltig&nbsp\;in einem Schokoladen-Unternehmen
  Markus Aeschbach\, Aeschbach Chocolatier\nWirtschaftlich und nachhaltig&n
 bsp\;in der Nahrungsmittelindustrie Nationalr&auml\;tin Petra G&ouml\;ssi\
 , FDP\, SZ Pr&auml\;sidentin Foederation der Schweizerischen Nahrungsmitte
 l-Industrien (fial)\nPanel\n\nNationalr&auml\;tin Petra G&ouml\;ssi\, FDP 
 SZ/Pr&auml\;sidentin fial\nNationalr&auml\;tin Meret Schneider\, Gr&uuml\;
 ne ZH\nMarkus Aeschbach\, Unternehmer\n\nModeration:Simone BurgenerMediens
 precherin Emmi/Moderatorin\nImbiss &amp\; Begegnungen
DTSTART:20231106T163000Z
DTEND:20231106T210000Z
LOCATION:Hochschwerzlen 6037 Root (Hochschwerzlen 6037 Root)
SUMMARY:Wirtschaftliche und nachhaltige Lebensmittel – ein Widerspruch?
END:VEVENT
END:VCALENDAR
